{"text_format":"1","workbook":"xlsx","n_sheets":3,"sheets":["Tájékoztató","Strázsa Honvéd TT.","Munka3"],"not_rendered":{"charts":0,"images":0,"macros":1,"external_links":0,"defined_names":3,"comments":0,"pivot_tables":0},"unopened":[],"bounds":{"document_bytes":16777216,"sheet_cells":100000,"rows_first":2000,"rows_last":500,"rows_between":2000,"halvings":0,"cell_chars":16384,"cell_head_chars":4096},"cells_cut":0,"cells_raw":0,"read":"whole","date_system":"1900"}

{"sheet":"Tájékoztató","index":0,"n_rows":18,"n_cols":1,"rows_kept":18,"cut":false,"hidden":false,"merged":[[17,0,17,13],[12,0,12,13],[13,0,13,13],[14,0,14,13],[15,0,15,13],[16,0,16,13],[11,0,11,13],[1,0,1,13],[2,0,2,13],[3,0,3,13],[4,0,4,13],[5,0,5,13],[6,0,6,13],[7,0,7,13],[8,0,8,13],[9,0,9,13],[10,0,10,13]]}
[]
["XIII. Strázsa Honvéd Teljesítménytúra"]
["Előnevezés"]
[" -A kitöltött nevezési lapot 2026. április 2-ig kell visszaküldeni a strazsate@gmail.com címre. Csoportos kitöltés esetén is valamennyi cellát ki kell tölteni az ÖTPRÓBA rendszerben való azonosíthatóság érdekében."]
[" -A nevezési lapon a név, település, a születési év és a választott táv kitöltése kötelező (zöld alászínezés), valamint a csoportból legalább egy telefonszám, amelyen a túra során elérhető a csoport."]
[" -A túra távját, az igényelt póló méretét és az ebéd adagszámot a lenyíló ablakból lehet kiválasztani"]
[" -Az előnevezés a regisztrációs díj és a megrendelt szolgáltatás (ebéd, póló) árának átutalásával válik érvényessé! A Honvéd Nyugdíjas Klub számlaszáma: 52800014-10105395-00000000  A „megjegyzés” rovatban kérjük feltüntetni a nevet és a születési évszámot is (csoportos nevezés esetén a csoportvezető nevét és születési évszámát) a könnyebb beazonosíthatóság érdekében."]
[" -Az előnevezési díjak: 2000, 2500, 3000, 3500, 4000 Ft"]
[" -Kedvezmények:"]
["     1./ Életkori kedvezmény: a 2016-ban és azt követően, vagy 1956-ban vagy azt megelőzően született nevezők 50 % kedvezményben részesülnek"]
["     2./ Előnevezési kedvezmény: 1000 Ft"]
["     3./ Ötpróbás regisztrációval rendelkezők kedvezménye: 0 Ft"]
[" -Étkezés: Előnevezés és igény esetén a célban meleg ebédet tudnak a rendezők biztosítani 2000 Ft/fő/adag egységáron (Babgulyás fst. Csülökkel )."]
[" -Póló: Előnevezés esetén emblémázott FoL Valueweight V-Neck T, 165 g, azur blue (kék), S-3xl méretben, 3000 Ft/db áron"]
[" -A rendezvény idején a célban és 3 ellenőrző ponton büfé szolgáltatás vehető igénybe és az Erdei-pihenőben az elmaradhatatlan kemencés lángost is lehet kóstolni"]
[" -További információ a https://hnyk.hu/index.php?r=StaticPage/View/920, oldalon, email-ben a strazsate@gmail.com  címen, https://www.facebook.com/StrazsaHonvedTeljesitmenytura (FB oldalon, vagy telefonon a 06-30-538-64-75 és a 06-20-972-54-21 telefonszámon"]
[" -A szervezők felhívják a figyelmet a közúton történő gyalogos közlekedés szabályainak betartására."]
[" -A túrán minden túrázó saját felelősségére vesz részt és hozzájárul adatainak a túra befejezéséig való nyilvántartáshoz, a túrán készült fotók közösségi oldalon történő közzétételéhez. A túrát követően az adatok megsemmisítésre kerülnek. A túra adatkezelési tájékoztatója elérhető: http://hnyk.hu/index.php?r=StaticPage/View/653"]

{"sheet":"Strázsa Honvéd TT.","index":1,"n_rows":80,"n_cols":31,"rows_kept":80,"cut":false,"hidden":false,"merged":[[0,0,0,19],[2,0,2,17],[3,30,3,32],[1,0,1,19],[74,2,78,2],[5,1,6,1],[5,5,6,5],[5,11,6,11],[5,0,6,0],[5,15,6,15],[4,18,6,18],[5,16,6,16],[5,10,6,10],[79,15,79,17],[74,12,78,15],[79,2,79,3],[4,19,6,19],[4,11,4,17],[5,3,6,3],[5,4,6,4],[5,2,6,2],[5,9,6,9],[5,7,6,7],[4,8,6,8],[4,0,4,7],[5,12,5,14],[5,17,6,17],[5,6,6,6]]}
["CSOPORTOS  R E G I S Z T R Á C I Ó S  LAP"]
["XIII.Strázsa Honvéd Tteljesítménytúra",null,null,null,null,null,null,null,null,null,null,null,null,null,null,null,null,null,null,null,null,null,null,null,"2025-03-27"]
["KITÖLTÉS: A 9,10,11. oszlopban a megfelelő választ a cella jobb oldalán megjelenő nyílra kattintva a lenyíló listából kell kiválasztani. Más választ nem fogad el",null,null,null,null,null,null,null,null,null,null,null,null,null,null,null,null,null,null,null,null,"nem","nem kérek"]
[null,null,null,null,null,null,null,null,null,null,null,null,null,null,null,null,null,null,null,null,null,"igen","S",null,"Cartogr","Táv","Regdíj","Helyszíni nevezés","Ebéd","Autóbusz","dátum (előnevezés)"]
["Alapadatok",null,null,null,null,null,null,null,"Választott táv","Ebéd (adag)","Póló","Fizetendő",null,null,null,null,null,null,"Autóbuszos szállítást kérek a vasútállomásról a rajthelyre az alábbi időpontban érkező vonathoz\n(7:21, 8:35, 9:21)","Megjegyzés",null,"igen","M",null,"igen","18 km",2000,3000,0,"07:21:00","2019-03-19"]
["Fsz.","Név","Település","Születési év","Tefonszám a túra alatt\n(06xxxxxxxxx)","Email cím (nem kötelező)","MH alkalmazott (katona, civil)\n(igen - nem)","ÖTPRÓBA azonosító\n(-300 Ft)\n(5pxxxxxx)",null,"Babgulyás fst. csülök (2000 Ft/adag)","3000 Ft/db\nMéret S-3xl","Reg. Díj","Kedvezmények",null,null,"Ebéd","Póló","Össze-sen",null,null,null,null,"L",null,"nem","28 km",2500,3500,1,"08:35:00","2019-04-09"]
[null,null,null,null,null,null,null,null,null,null,null,null,"04.02-ig előnevzés","MH alkalmazott (50 %)","10 év alatt, 70 év fölött 50 %",null,null,null,null,null,"ötpróba száma van-e","10 év alatt és 70 év fölött","XL",null,null,"38 km",3000,4000,2,"09:21:00"]
[1,2,3,4,5,6,"7",7,8,9,10,11,12,14,13,15,16,17,15,18,null,null,"2XL",null,null,"46 km",3500,4500,3]
[1,null,null,null,null,null,null,null,null,0,"nem kérek",{"$f":"IF(ISBLANK(I9),0,VLOOKUP(I9,$Z$5:$AA$8,2))","v":0},{"$f":"IF(ISBLANK(I9),0,IF(I9>0,IF(TODAY()<$Y$2,VLOOKUP(I9,$Z$5:$AA$9,3),0)))","v":0},{"$f":"IF(O9<0,0,IF(G9=\"igen\",(L9+M9+#REF!)/-2,0))","v":0},{"$f":"IF(ISBLANK(D9),0,IF(I9>0,IF(OR(1957>D9,2015<D9),(L9+M9)/-2,0)))","v":0},{"$f":"IF(ISBLANK(J9),0,J9*2000)","v":0},{"$f":"IF(K9=\"nem kérek\",0,3000)","v":0},{"$f":"SUM(L9:Q9)","v":0},null,null,{"$f":"COUNTA(H9:H9)","v":0},{"$f":"IF(OR(1951>D9,2009<D9),2,1)","v":2},"3XL",null,null,"54 km",4000,5000,4]
[2,null,null,null,null,null,null,null,null,0,"nem kérek",{"$f":"IF(ISBLANK(I10),0,VLOOKUP(I10,$Z$5:$AA$8,2))","v":0},{"$f":"IF(ISBLANK(I10),0,IF(I10>0,IF(TODAY()<$Y$2,VLOOKUP(I10,$Z$5:$AA$9,3),0)))","v":0},{"$f":"IF(O10<0,0,IF(G10=\"igen\",(L10+M10+#REF!)/-2,0))","v":0},{"$f":"IF(ISBLANK(D10),0,IF(I10>0,IF(OR(1957>D10,2015<D10),(L10+M10)/-2,0)))","v":0},{"$f":"IF(ISBLANK(J10),0,J10*2000)","v":0},{"$f":"IF(K10=\"nem kérek\",0,3000)","v":0},{"$f":"SUM(L10:Q10)","v":0},null,null,{"$f":"COUNTA(H10:H10)","v":0},{"$f":"IF(OR(1951>D10,2009<D10),2,1)","v":2},null,null,null,null,null,null,5]
[3,null,null,null,null,null,null,null,null,0,"nem kérek",0,0,{"$f":"IF(O11<0,0,IF(G11=\"igen\",(L11+M11+#REF!)/-2,0))","v":0},0,0,0,0,null,null,{"$f":"COUNTA(H11:H11)","v":0},{"$f":"IF(OR(1951>D11,2009<D11),2,1)","v":2}]
[4,null,null,null,null,null,null,null,null,0,"nem kérek",{"$f":"IF(ISBLANK(I12),0,VLOOKUP(I12,$Z$5:$AA$8,2))","v":0},{"$f":"IF(ISBLANK(I12),0,IF(I12>0,IF(TODAY()<$Y$2,VLOOKUP(I12,$Z$5:$AA$9,3),0)))","v":0},{"$f":"IF(O12<0,0,IF(G12=\"igen\",(L12+M12+#REF!)/-2,0))","v":0},{"$f":"IF(ISBLANK(D12),0,IF(I12>0,IF(OR(1957>D12,2015<D12),(L12+M12)/-2,0)))","v":0},{"$f":"IF(ISBLANK(J12),0,J12*2000)","v":0},{"$f":"IF(K12=\"nem kérek\",0,3000)","v":0},{"$f":"SUM(L12:Q12)","v":0},null,null,{"$f":"COUNTA(H12:H12)","v":0}]
[5,null,null,null,null,null,null,null,null,0,"nem kérek",0,0,{"$f":"IF(O13<0,0,IF(G13=\"igen\",(L13+M13+#REF!)/-2,0))","v":0},0,0,0,0,null,null,{"$f":"COUNTA(H13:H13)","v":0}]
[6,null,null,null,null,null,null,null,null,0,"nem kérek",0,0,{"$f":"IF(O14<0,0,IF(G14=\"igen\",(L14+M14+#REF!)/-2,0))","v":0},0,0,0,0,null,null,{"$f":"COUNTA(H14:H14)","v":0}]
[7,null,null,null,null,null,"nem",null,null,0,"nem kérek",0,0,{"$f":"IF(O15<0,0,IF(G15=\"igen\",(L15+M15+#REF!)/-2,0))","v":0},0,0,0,0,null,null,{"$f":"COUNTA(H15:H15)","v":0}]
[8,null,null,null,null,null,"nem",null,null,0,"nem kérek",0,0,{"$f":"IF(O16<0,0,IF(G16=\"igen\",(L16+M16+#REF!)/-2,0))","v":0},0,0,0,0,null,null,{"$f":"COUNTA(H16:H16)","v":0}]
[9,null,null,null,null,null,"nem",null,null,0,"nem kérek",0,0,{"$f":"IF(O17<0,0,IF(G17=\"igen\",(L17+M17+#REF!)/-2,0))","v":0},0,0,0,0,null,null,{"$f":"COUNTA(H17:H17)","v":0}]
[10,null,null,null,null,null,"nem",null,null,0,"nem kérek",0,0,{"$f":"IF(O18<0,0,IF(G18=\"igen\",(L18+M18+#REF!)/-2,0))","v":0},0,0,0,0,null,null,{"$f":"COUNTA(H18:H18)","v":0}]
[11,null,null,null,null,null,"nem",null,null,0,"nem kérek",0,0,{"$f":"IF(O19<0,0,IF(G19=\"igen\",(L19+M19+#REF!)/-2,0))","v":0},0,0,0,0,null,null,{"$f":"COUNTA(H19:H19)","v":0}]
[12,null,null,null,null,null,"nem",null,null,0,"nem kérek",0,0,{"$f":"IF(O20<0,0,IF(G20=\"igen\",(L20+M20+#REF!)/-2,0))","v":0},0,0,0,0,null,null,{"$f":"COUNTA(H20:H20)","v":0}]
[13,null,null,null,null,null,"nem",null,null,0,"nem kérek",0,0,{"$f":"IF(O21<0,0,IF(G21=\"igen\",(L21+M21+#REF!)/-2,0))","v":0},0,0,0,0,null,null,{"$f":"COUNTA(H21:H21)","v":0}]
[14,null,null,null,null,null,"nem",null,null,0,"nem kérek",0,0,{"$f":"IF(O22<0,0,IF(G22=\"igen\",(L22+M22+#REF!)/-2,0))","v":0},0,0,0,0,null,null,{"$f":"COUNTA(H22:H22)","v":0}]
[15,null,null,null,null,null,"nem",null,null,0,"nem kérek",0,0,{"$f":"IF(O23<0,0,IF(G23=\"igen\",(L23+M23+#REF!)/-2,0))","v":0},0,0,0,0,null,null,{"$f":"COUNTA(H23:H23)","v":0}]
[16,null,null,null,null,null,"nem",null,null,0,"nem kérek",0,0,{"$f":"IF(O24<0,0,IF(G24=\"igen\",(L24+M24+#REF!)/-2,0))","v":0},0,0,0,0,null,null,{"$f":"COUNTA(H24:H24)","v":0}]
[17,null,null,null,null,null,"nem",null,null,0,"nem kérek",0,0,{"$f":"IF(O25<0,0,IF(G25=\"igen\",(L25+M25+#REF!)/-2,0))","v":0},0,0,0,0,null,null,{"$f":"COUNTA(H25:H25)","v":0}]
[18,null,null,null,null,null,"nem",null,null,0,"nem kérek",0,0,{"$f":"IF(O26<0,0,IF(G26=\"igen\",(L26+M26+#REF!)/-2,0))","v":0},0,0,0,0,null,null,{"$f":"COUNTA(H26:H26)","v":0}]
[19,null,null,null,null,null,"nem",null,null,0,"nem kérek",0,0,{"$f":"IF(O27<0,0,IF(G27=\"igen\",(L27+M27+#REF!)/-2,0))","v":0},0,0,0,0,null,null,{"$f":"COUNTA(H27:H27)","v":0}]
[20,null,null,null,null,null,"nem",null,null,0,"nem kérek",0,0,{"$f":"IF(O28<0,0,IF(G28=\"igen\",(L28+M28+#REF!)/-2,0))","v":0},0,0,0,0,null,null,{"$f":"COUNTA(H28:H28)","v":0}]
[21,null,null,null,null,null,"nem",null,null,0,"nem kérek",0,0,{"$f":"IF(O29<0,0,IF(G29=\"igen\",(L29+M29+#REF!)/-2,0))","v":0},0,0,0,0,null,null,{"$f":"COUNTA(H29:H29)","v":0}]
[22,null,null,null,null,null,"nem",null,null,0,"nem kérek",0,0,{"$f":"IF(O30<0,0,IF(G30=\"igen\",(L30+M30+#REF!)/-2,0))","v":0},0,0,0,0,null,null,{"$f":"COUNTA(H30:H30)","v":0}]
[23,null,null,null,null,null,"nem",null,null,0,"nem kérek",0,0,{"$f":"IF(O31<0,0,IF(G31=\"igen\",(L31+M31+#REF!)/-2,0))","v":0},0,0,0,0,null,null,{"$f":"COUNTA(H31:H31)","v":0}]
[24,null,null,null,null,null,"nem",null,null,0,"nem kérek",0,0,{"$f":"IF(O32<0,0,IF(G32=\"igen\",(L32+M32+#REF!)/-2,0))","v":0},0,0,0,0,null,null,{"$f":"COUNTA(H32:H32)","v":0}]
[25,null,null,null,null,null,"nem",null,null,0,"nem kérek",0,0,{"$f":"IF(O33<0,0,IF(G33=\"igen\",(L33+M33+#REF!)/-2,0))","v":0},0,0,0,0,null,null,{"$f":"COUNTA(H33:H33)","v":0}]
[26,null,null,null,null,null,"nem",null,null,0,"nem kérek",0,0,{"$f":"IF(O34<0,0,IF(G34=\"igen\",(L34+M34+#REF!)/-2,0))","v":0},0,0,0,0,null,null,{"$f":"COUNTA(H34:H34)","v":0}]
[27,null,null,null,null,null,"nem",null,null,0,"nem kérek",0,0,{"$f":"IF(O35<0,0,IF(G35=\"igen\",(L35+M35+#REF!)/-2,0))","v":0},0,0,0,0,null,null,{"$f":"COUNTA(H35:H35)","v":0}]
[28,null,null,null,null,null,"nem",null,null,0,"nem kérek",0,0,{"$f":"IF(O36<0,0,IF(G36=\"igen\",(L36+M36+#REF!)/-2,0))","v":0},0,0,0,0,null,null,{"$f":"COUNTA(H36:H36)","v":0}]
[29,null,null,null,null,null,"nem",null,null,0,"nem kérek",0,0,{"$f":"IF(O37<0,0,IF(G37=\"igen\",(L37+M37+#REF!)/-2,0))","v":0},0,0,0,0,null,null,{"$f":"COUNTA(H37:H37)","v":0}]
[30,null,null,null,null,null,"nem",null,null,0,"nem kérek",0,0,{"$f":"IF(O38<0,0,IF(G38=\"igen\",(L38+M38+#REF!)/-2,0))","v":0},0,0,0,0,null,null,{"$f":"COUNTA(H38:H38)","v":0}]
[31,null,null,null,null,null,"nem",null,null,0,"nem kérek",0,0,{"$f":"IF(O39<0,0,IF(G39=\"igen\",(L39+M39+#REF!)/-2,0))","v":0},0,0,0,0,null,null,{"$f":"COUNTA(H39:H39)","v":0}]
[32,null,null,null,null,null,"nem",null,null,0,"nem kérek",0,0,{"$f":"IF(O40<0,0,IF(G40=\"igen\",(L40+M40+#REF!)/-2,0))","v":0},0,0,0,0,null,null,{"$f":"COUNTA(H40:H40)","v":0}]
[33,null,null,null,null,null,"nem",null,null,0,"nem kérek",0,0,{"$f":"IF(O41<0,0,IF(G41=\"igen\",(L41+M41+#REF!)/-2,0))","v":0},0,0,0,0,null,null,{"$f":"COUNTA(H41:H41)","v":0}]
[34,null,null,null,null,null,"nem",null,null,0,"nem kérek",0,0,{"$f":"IF(O42<0,0,IF(G42=\"igen\",(L42+M42+#REF!)/-2,0))","v":0},0,0,0,0,null,null,{"$f":"COUNTA(H42:H42)","v":0}]
[35,null,null,null,null,null,"nem",null,null,0,"nem kérek",0,0,{"$f":"IF(O43<0,0,IF(G43=\"igen\",(L43+M43+#REF!)/-2,0))","v":0},0,0,0,0,null,null,{"$f":"COUNTA(H43:H43)","v":0}]
[36,null,null,null,null,null,"nem",null,null,0,"nem kérek",0,0,{"$f":"IF(O44<0,0,IF(G44=\"igen\",(L44+M44+#REF!)/-2,0))","v":0},0,0,0,0,null,null,{"$f":"COUNTA(H44:H44)","v":0}]
[37,null,null,null,null,null,"nem",null,null,0,"nem kérek",0,0,{"$f":"IF(O45<0,0,IF(G45=\"igen\",(L45+M45+#REF!)/-2,0))","v":0},0,0,0,0,null,null,{"$f":"COUNTA(H45:H45)","v":0}]
[38,null,null,null,null,null,"nem",null,null,0,"nem kérek",0,0,{"$f":"IF(O46<0,0,IF(G46=\"igen\",(L46+M46+#REF!)/-2,0))","v":0},0,0,0,0,null,null,{"$f":"COUNTA(H46:H46)","v":0}]
[39,null,null,null,null,null,"nem",null,null,0,"nem kérek",0,0,{"$f":"IF(O47<0,0,IF(G47=\"igen\",(L47+M47+#REF!)/-2,0))","v":0},0,0,0,0,null,null,{"$f":"COUNTA(H47:H47)","v":0}]
[40,null,null,null,null,null,"nem",null,null,0,"nem kérek",0,0,{"$f":"IF(O48<0,0,IF(G48=\"igen\",(L48+M48+#REF!)/-2,0))","v":0},0,0,0,0,null,null,{"$f":"COUNTA(H48:H48)","v":0}]
[41,null,null,null,null,null,"nem",null,null,0,"nem kérek",0,0,{"$f":"IF(O49<0,0,IF(G49=\"igen\",(L49+M49+#REF!)/-2,0))","v":0},0,0,0,0,null,null,{"$f":"COUNTA(H49:H49)","v":0}]
[42,null,null,null,null,null,"nem",null,null,0,"nem kérek",0,0,{"$f":"IF(O50<0,0,IF(G50=\"igen\",(L50+M50+#REF!)/-2,0))","v":0},0,0,0,0,null,null,{"$f":"COUNTA(H50:H50)","v":0}]
[43,null,null,null,null,null,"nem",null,null,0,"nem kérek",0,0,{"$f":"IF(O51<0,0,IF(G51=\"igen\",(L51+M51+#REF!)/-2,0))","v":0},0,0,0,0,null,null,{"$f":"COUNTA(H51:H51)","v":0}]
[44,null,null,null,null,null,"nem",null,null,0,"nem kérek",0,0,{"$f":"IF(O52<0,0,IF(G52=\"igen\",(L52+M52+#REF!)/-2,0))","v":0},0,0,0,0,null,null,{"$f":"COUNTA(H52:H52)","v":0}]
[45,null,null,null,null,null,"nem",null,null,0,"nem kérek",0,0,{"$f":"IF(O53<0,0,IF(G53=\"igen\",(L53+M53+#REF!)/-2,0))","v":0},0,0,0,0,null,null,{"$f":"COUNTA(H53:H53)","v":0}]
[46,null,null,null,null,null,"nem",null,null,0,"nem kérek",0,0,{"$f":"IF(O54<0,0,IF(G54=\"igen\",(L54+M54+#REF!)/-2,0))","v":0},0,0,0,0,null,null,{"$f":"COUNTA(H54:H54)","v":0}]
[47,null,null,null,null,null,"nem",null,null,0,"nem kérek",0,0,{"$f":"IF(O55<0,0,IF(G55=\"igen\",(L55+M55+#REF!)/-2,0))","v":0},0,0,0,0,null,null,{"$f":"COUNTA(H55:H55)","v":0}]
[48,null,null,null,null,null,"nem",null,null,0,"nem kérek",0,0,{"$f":"IF(O56<0,0,IF(G56=\"igen\",(L56+M56+#REF!)/-2,0))","v":0},0,0,0,0,null,null,{"$f":"COUNTA(H56:H56)","v":0}]
[49,null,null,null,null,null,"nem",null,null,0,"nem kérek",0,0,{"$f":"IF(O57<0,0,IF(G57=\"igen\",(L57+M57+#REF!)/-2,0))","v":0},0,0,0,0,null,null,{"$f":"COUNTA(H57:H57)","v":0}]
[50,null,null,null,null,null,"nem",null,null,0,"nem kérek",0,0,{"$f":"IF(O58<0,0,IF(G58=\"igen\",(L58+M58+#REF!)/-2,0))","v":0},0,0,0,0,null,null,{"$f":"COUNTA(H58:H58)","v":0}]
[51,null,null,null,null,null,"nem",null,null,0,"nem kérek",0,0,{"$f":"IF(O59<0,0,IF(G59=\"igen\",(L59+M59+#REF!)/-2,0))","v":0},0,0,0,0,null,null,{"$f":"COUNTA(H59:H59)","v":0}]
[52,null,null,null,null,null,"nem",null,null,0,"nem kérek",0,0,{"$f":"IF(O60<0,0,IF(G60=\"igen\",(L60+M60+#REF!)/-2,0))","v":0},0,0,0,0,null,null,{"$f":"COUNTA(H60:H60)","v":0}]
[53,null,null,null,null,null,"nem",null,null,0,"nem kérek",0,0,{"$f":"IF(O61<0,0,IF(G61=\"igen\",(L61+M61+#REF!)/-2,0))","v":0},0,0,0,0,null,null,{"$f":"COUNTA(H61:H61)","v":0}]
[61,null,null,null,null,null,"nem",null,null,0,"nem kérek",0,0,{"$f":"IF(O62<0,0,IF(G62=\"igen\",(L62+M62+#REF!)/-2,0))","v":0},0,0,0,0,null,null,{"$f":"COUNTA(H62:H62)","v":0}]
[62,null,null,null,null,null,"nem",null,null,0,"nem kérek",0,0,{"$f":"IF(O63<0,0,IF(G63=\"igen\",(L63+M63+#REF!)/-2,0))","v":0},0,0,0,0,null,null,{"$f":"COUNTA(H63:H63)","v":0}]
[63,null,null,null,null,null,"nem",null,null,0,"nem kérek",0,0,{"$f":"IF(O64<0,0,IF(G64=\"igen\",(L64+M64+#REF!)/-2,0))","v":0},0,0,0,0,null,null,{"$f":"COUNTA(H64:H64)","v":0}]
[64,null,null,null,null,null,"nem",null,null,0,"nem kérek",0,0,{"$f":"IF(O65<0,0,IF(G65=\"igen\",(L65+M65+#REF!)/-2,0))","v":0},0,0,0,0,null,null,{"$f":"COUNTA(H65:H65)","v":0}]
[65,null,null,null,null,null,"nem",null,null,0,"nem kérek",0,0,{"$f":"IF(O66<0,0,IF(G66=\"igen\",(L66+M66+#REF!)/-2,0))","v":0},0,0,0,0,null,null,{"$f":"COUNTA(H66:H66)","v":0}]
[66,null,null,null,null,null,"nem",null,null,0,"nem kérek",0,0,{"$f":"IF(O67<0,0,IF(G67=\"igen\",(L67+M67+#REF!)/-2,0))","v":0},0,0,0,0,null,null,{"$f":"COUNTA(H67:H67)","v":0}]
[67,null,null,null,null,null,"nem",null,null,0,"nem kérek",0,0,{"$f":"IF(O68<0,0,IF(G68=\"igen\",(L68+M68+#REF!)/-2,0))","v":0},0,0,0,0,null,null,{"$f":"COUNTA(H68:H68)","v":0}]
[68,null,null,null,null,null,"nem",null,null,0,"nem kérek",0,0,{"$f":"IF(O69<0,0,IF(G69=\"igen\",(L69+M69+#REF!)/-2,0))","v":0},0,0,0,0,null,null,{"$f":"COUNTA(H69:H69)","v":0}]
[69,null,null,null,null,null,"nem",null,null,0,"nem kérek",0,0,{"$f":"IF(O70<0,0,IF(G70=\"igen\",(L70+M70+#REF!)/-2,0))","v":0},0,0,0,0,null,null,{"$f":"COUNTA(H70:H70)","v":0}]
[70,null,null,null,null,null,"nem",null,null,0,"nem kérek",0,0,{"$f":"IF(O71<0,0,IF(G71=\"igen\",(L71+M71+#REF!)/-2,0))","v":0},0,0,0,0,null,null,{"$f":"COUNTA(H71:H71)","v":0}]
[71,null,null,null,null,null,"nem",null,null,0,"nem kérek",0,0,{"$f":"IF(O72<0,0,IF(G72=\"igen\",(L72+M72+#REF!)/-2,0))","v":0},0,0,0,0,null,null,{"$f":"COUNTA(H72:H72)","v":0}]
[null,null,null,null,null,null,null,null,null,null,null,null,null,null,null,null,null,null,null,null,{"$f":"COUNTA(H68:H68)","v":0}]
["Összesen",null,null,null,null,null,null,{"$f":"COUNTA(H9:H73)","v":0},{"$f":"SUM(I9:I73)","v":0},0,{"$f":"SUM(K9:K73)","v":0},0,0,0,0,{"$f":"SUM(P9:P73)","v":0},{"$f":"SUM(Q9:Q73)","v":0},{"$f":"SUM(R9:R73)","v":0},null,null,{"$f":"COUNTA(H69:H69)","v":0}]
[null,null,"Túrázó összesen","18 km",{"$f":"COUNTIF($I$9:$I$73,\"18 km\")","v":0},null,null,null,null,null,null,null,null,null,null,null,null,null,{"$f":"COUNTIF($S$9:$S$73,\"7:21\")","v":0},null,{"$f":"COUNTA(H70:H70)","v":0}]
[null,null,null,"28 km",{"$f":"COUNTIF($I$9:$I$73,\"28 km\")","v":0}]
[null,null,null,"38 km",{"$f":"COUNTIF($I$9:$I$73,\"38 km\")","v":0},null,null,null,null,null,null,null,null,null,null,null,null,null,{"$f":"COUNTIF($S$9:$S$73,\"8:35\")","v":0}]
[null,null,null,"46 km",{"$f":"COUNTIF($I$9:$I$73,\"46 km\")","v":0},null,null,null,null,null,null,null,null,null,null,null,null,null,{"$f":"COUNTIF($S$9:$S$73,\"9:21\")","v":0}]
[null,null,null,"54 km",{"$f":"COUNTIF($I$9:$I$73,\"54 km\")","v":0}]
[null,null,"Mindösszesen",null,{"$f":"SUM(E75:E79)","v":0},null,null,null,null,null,null,null,null,null,null,null,null,null,{"$f":"SUM(S75:S79)","v":0}]

{"sheet":"Munka3","index":2,"n_rows":5,"n_cols":30,"rows_kept":5,"cut":false,"hidden":true,"merged":[]}
[]
[]
[]
[]
[null,null,null,null,null,null,null,null,null,null,null,null,null,null,null,null,null,null,null,null,null,null,null,null,null,null,null,null,null,"2019-03-19"]